BEGIN:VCALENDAR
VERSION:2.0
PRODID:-//eventon.com NONSGML v1.0//EN
BEGIN:VEVENT
UID:69e9e2ca5bd08
DTSTAMP:20260423T111346
DTSTART:20260505T073000Z
DTEND:20260505T093000Z
LOCATION:Gáthy Zoltán Városi Könyvtár 2510 Dorog\,  Bécsi út 56
SUMMARY:Kerekítő
DESCRIPTION: 
END:VEVENT
END:VCALENDAR