BEGIN:VCALENDAR
VERSION:2.0
PRODID:-//eventon.com NONSGML v1.0//EN
BEGIN:VEVENT
UID:69e9e35410fee
DTSTAMP:20260423T111604
DTSTART:20260512T073000Z
DTEND:20260512T093000Z
LOCATION:Gáthy Zoltán Városi Könyvtár 2510 Dorog\,  Bécsi út 56
SUMMARY:Kerekítő
DESCRIPTION: 
END:VEVENT
END:VCALENDAR