BEGIN:VCALENDAR
VERSION:2.0
PRODID:-//eventon.com NONSGML v1.0//EN
BEGIN:VEVENT
UID:69e9deebeb334
DTSTAMP:20260423T105715
DTSTART:20260519T073000Z
DTEND:20260519T093000Z
LOCATION:Gáthy Zoltán Városi Könyvtár 2510 Dorog\,  Bécsi út 56
SUMMARY:Kerekítő
DESCRIPTION: 
END:VEVENT
END:VCALENDAR