BEGIN:VCALENDAR
VERSION:2.0
PRODID:-//eventon.com NONSGML v1.0//EN
BEGIN:VEVENT
UID:69e9def54656d
DTSTAMP:20260423T105725
DTSTART:20260529T130000Z
DTEND:20260529T150000Z
LOCATION:Gáthy Zoltán Városi Könyvtár 2510 Dorog\,  Bécsi út 56
SUMMARY:Játék a könyvtárban
DESCRIPTION: 
END:VEVENT
END:VCALENDAR