BEGIN:VCALENDAR
VERSION:2.0
PRODID:-//eventon.com NONSGML v1.0//EN
BEGIN:VEVENT
UID:69e8be1ab446b
DTSTAMP:20260422T142458
DTSTART:20260423T120000Z
DTEND:20260423T130000Z
LOCATION:Gáthy Zoltán Városi Könyvtár 2510 Dorog\,  Bécsi út 56
SUMMARY:Janikovszky 100 - rajzpályázat kiállítás
DESCRIPTION: 
END:VEVENT
END:VCALENDAR